BEGIN:VCALENDAR
VERSION:2.0
PRODID:-//eventon.com NONSGML v1.0//EN
BEGIN:VEVENT
UID:69e73d6ded75a
DTSTAMP:20260421T050341
DTSTART:20221006T123000Z
DTEND:20221006T133000Z
LOCATION:Macomb County Community Mental Health Administration Building 19800 Hall Road\,  Clinton Township\,  MI\,  48038
SUMMARY:CMH Board - Policy & Legislative Committee Meeting
DESCRIPTION: Public attendance is welcome.
END:VEVENT
END:VCALENDAR