BEGIN:VCALENDAR
VERSION:2.0
PRODID:-//eventon.com NONSGML v1.0//EN
BEGIN:VEVENT
UID:69e9e29f4077d
DTSTAMP:20260423T051303
DTSTART:20240228T220000Z
DTEND:20240229T000000Z
LOCATION:Macomb County Administration Building 1 S. Main St\,  9th Floor
SUMMARY:Full Board Meeting
DESCRIPTION: Board Meetings are held on the 9th Floor of the Macomb County Administration Building DOWNLOAD THE AGENDA
END:VEVENT
END:VCALENDAR